Package: flowWorkspace Version: 4.18.0 Command: rm -rf flowWorkspace.buildbin-libdir && mkdir flowWorkspace.buildbin-libdir && /Users/biocbuild/BBS/utils/build-universal.sh flowWorkspace_4.18.0.tar.gz /Library/Frameworks/R.framework/Resources/bin/R flowWorkspace.buildbin-libdir StartedAt: 2025-02-05 15:53:34 -0500 (Wed, 05 Feb 2025) EndedAt: 2025-02-05 15:55:42 -0500 (Wed, 05 Feb 2025) EllapsedTime: 128.0 seconds RetCode: 0 Status: OK PackageFile: flowWorkspace_4.18.0.tgz PackageFileSize: 5.83 MiB