Package: flowViz Version: 1.70.0 Command: /home/biocbuild/bbs-3.20-bioc/R/bin/R CMD check --install=check:flowViz.install-out.txt --library=/home/biocbuild/bbs-3.20-bioc/R/site-library --timings flowViz_1.70.0.tar.gz StartedAt: 2025-01-27 23:12:39 -0500 (Mon, 27 Jan 2025) EndedAt: 2025-01-27 23:15:31 -0500 (Mon, 27 Jan 2025) EllapsedTime: 171.3 seconds RetCode: 0 Status: OK CheckDir: flowViz.Rcheck Warnings: 0