Package: flowVS Version: 1.38.0 Command: rm -rf flowVS.buildbin-libdir && mkdir flowVS.buildbin-libdir && F:\biocbuild\bbs-3.20-bioc\R\bin\R.exe CMD INSTALL --build --library=flowVS.buildbin-libdir flowVS_1.38.0.tar.gz StartedAt: 2025-04-01 08:13:06 -0400 (Tue, 01 Apr 2025) EndedAt: 2025-04-01 08:13:28 -0400 (Tue, 01 Apr 2025) EllapsedTime: 22.4 seconds RetCode: 0 Status: OK PackageFile: flowVS_1.38.0.zip PackageFileSize: 3.586 MiB