Package: flowVS Version: 1.38.0 Command: /home/biocbuild/bbs-3.20-bioc/R/bin/R CMD INSTALL flowVS StartedAt: 2025-03-31 16:02:07 -0400 (Mon, 31 Mar 2025) EndedAt: 2025-03-31 16:02:22 -0400 (Mon, 31 Mar 2025) EllapsedTime: 14.3 seconds RetCode: 0 Status: OK