Package: flowVS Version: 1.38.0 Command: rm -rf flowVS.buildbin-libdir && mkdir flowVS.buildbin-libdir && /Users/biocbuild/BBS/utils/build-universal.sh flowVS_1.38.0.tar.gz /Library/Frameworks/R.framework/Resources/bin/R flowVS.buildbin-libdir StartedAt: 2025-01-28 13:10:10 -0500 (Tue, 28 Jan 2025) EndedAt: 2025-01-28 13:10:53 -0500 (Tue, 28 Jan 2025) EllapsedTime: 43.1 seconds RetCode: 0 Status: OK PackageFile: flowVS_1.38.0.tgz PackageFileSize: 3.586 MiB