Package: flowVS Version: 1.38.0 Command: /Library/Frameworks/R.framework/Resources/bin/R CMD INSTALL flowVS StartedAt: 2025-03-31 18:20:36 -0400 (Mon, 31 Mar 2025) EndedAt: 2025-03-31 18:20:54 -0400 (Mon, 31 Mar 2025) EllapsedTime: 18.4 seconds RetCode: 0 Status: OK