Package: flowVS Version: 1.38.0 Command: /Library/Frameworks/R.framework/Resources/bin/R CMD build --keep-empty-dirs --no-resave-data flowVS StartedAt: 2025-01-27 23:48:22 -0500 (Mon, 27 Jan 2025) EndedAt: 2025-01-27 23:51:11 -0500 (Mon, 27 Jan 2025) EllapsedTime: 168.8 seconds RetCode: 0 Status: OK PackageFile: flowVS_1.38.0.tar.gz PackageFileSize: 3.699 MiB