Package: flowTrans Version: 1.58.0 Command: /home/biocbuild/R/R/bin/R CMD build --keep-empty-dirs --no-resave-data flowTrans StartedAt: 2025-03-31 23:33:48 -0000 (Mon, 31 Mar 2025) EndedAt: 2025-03-31 23:34:17 -0000 (Mon, 31 Mar 2025) EllapsedTime: 29.0 seconds RetCode: 0 Status: OK PackageFile: flowTrans_1.58.0.tar.gz PackageFileSize: 474.7 KiB