Package: flowTrans Version: 1.58.0 Command: F:\biocbuild\bbs-3.20-bioc\R\bin\R.exe CMD check --no-multiarch --install=check:flowTrans.install-out.txt --library=F:\biocbuild\bbs-3.20-bioc\R\library --no-vignettes --timings flowTrans_1.58.0.tar.gz StartedAt: 2025-01-31 02:07:51 -0500 (Fri, 31 Jan 2025) EndedAt: 2025-01-31 02:09:11 -0500 (Fri, 31 Jan 2025) EllapsedTime: 79.4 seconds RetCode: 0 Status: OK CheckDir: flowTrans.Rcheck Warnings: 0