Package: flowTrans Version: 1.58.0 Command: chmod a+r flowTrans -R && F:\biocbuild\bbs-3.20-bioc\R\bin\R.exe CMD build --keep-empty-dirs --no-resave-data flowTrans StartedAt: 2025-03-31 19:02:57 -0400 (Mon, 31 Mar 2025) EndedAt: 2025-03-31 19:03:22 -0400 (Mon, 31 Mar 2025) EllapsedTime: 25.0 seconds RetCode: 0 Status: OK PackageFile: flowTrans_1.58.0.tar.gz PackageFileSize: 372.9 KiB