Package: flowTrans Version: 1.58.0 Command: /home/biocbuild/bbs-3.20-bioc/R/bin/R CMD check --install=check:flowTrans.install-out.txt --library=/home/biocbuild/bbs-3.20-bioc/R/site-library --timings flowTrans_1.58.0.tar.gz StartedAt: 2025-03-31 22:15:23 -0400 (Mon, 31 Mar 2025) EndedAt: 2025-03-31 22:16:33 -0400 (Mon, 31 Mar 2025) EllapsedTime: 69.1 seconds RetCode: 0 Status: OK CheckDir: flowTrans.Rcheck Warnings: 0