Package: flowTrans Version: 1.58.0 Command: /Library/Frameworks/R.framework/Resources/bin/R CMD build --keep-empty-dirs --no-resave-data flowTrans StartedAt: 2025-03-31 18:47:50 -0400 (Mon, 31 Mar 2025) EndedAt: 2025-03-31 18:48:46 -0400 (Mon, 31 Mar 2025) EllapsedTime: 56.2 seconds RetCode: 0 Status: OK PackageFile: flowTrans_1.58.0.tar.gz PackageFileSize: 480.4 KiB