Package: flowTime Version: 1.30.0 Command: rm -rf flowTime.buildbin-libdir && mkdir flowTime.buildbin-libdir && /Users/biocbuild/BBS/utils/build-universal.sh flowTime_1.30.0.tar.gz /Library/Frameworks/R.framework/Resources/bin/R flowTime.buildbin-libdir StartedAt: 2025-04-01 11:53:58 -0400 (Tue, 01 Apr 2025) EndedAt: 2025-04-01 11:54:20 -0400 (Tue, 01 Apr 2025) EllapsedTime: 21.8 seconds RetCode: 0 Status: OK PackageFile: flowTime_1.30.0.tgz PackageFileSize: 2.679 MiB