Package: flowStats Version: 4.18.0 Command: /home/biocbuild/R/R/bin/R CMD INSTALL flowStats StartedAt: 2025-02-03 21:24:46 -0000 (Mon, 03 Feb 2025) EndedAt: 2025-02-03 21:25:18 -0000 (Mon, 03 Feb 2025) EllapsedTime: 32.3 seconds RetCode: 0 Status: OK