Package: flowStats Version: 4.18.0 Command: /home/biocbuild/R/R/bin/R CMD check --install=check:flowStats.install-out.txt --library=/home/biocbuild/R/R/site-library --no-vignettes --timings flowStats_4.18.0.tar.gz StartedAt: 2025-02-04 07:05:21 -0000 (Tue, 04 Feb 2025) EndedAt: 2025-02-04 07:08:52 -0000 (Tue, 04 Feb 2025) EllapsedTime: 211.2 seconds RetCode: 0 Status: WARNINGS CheckDir: flowStats.Rcheck Warnings: 4