Package: flowStats Version: 4.18.0 Command: F:\biocbuild\bbs-3.20-bioc\R\bin\R.exe CMD check --no-multiarch --install=check:flowStats.install-out.txt --library=F:\biocbuild\bbs-3.20-bioc\R\library --no-vignettes --timings flowStats_4.18.0.tar.gz StartedAt: 2025-01-28 01:40:21 -0500 (Tue, 28 Jan 2025) EndedAt: 2025-01-28 01:44:09 -0500 (Tue, 28 Jan 2025) EllapsedTime: 227.7 seconds RetCode: 0 Status: WARNINGS CheckDir: flowStats.Rcheck Warnings: 4