Package: flowStats Version: 4.18.0 Command: /home/biocbuild/bbs-3.20-bioc/R/bin/R CMD build --keep-empty-dirs --no-resave-data --md5 flowStats StartedAt: 2025-01-27 18:13:26 -0500 (Mon, 27 Jan 2025) EndedAt: 2025-01-27 18:15:00 -0500 (Mon, 27 Jan 2025) EllapsedTime: 94.1 seconds RetCode: 0 Status: OK PackageFile: flowStats_4.18.0.tar.gz PackageFileSize: 10.96 MiB