Package: flowStats Version: 4.18.0 Command: /Library/Frameworks/R.framework/Resources/bin/R CMD INSTALL flowStats StartedAt: 2025-02-03 16:51:44 -0500 (Mon, 03 Feb 2025) EndedAt: 2025-02-03 16:52:37 -0500 (Mon, 03 Feb 2025) EllapsedTime: 53.0 seconds RetCode: 0 Status: OK