Package: flowStats Version: 4.18.0 Command: rm -rf flowStats.buildbin-libdir && mkdir flowStats.buildbin-libdir && /Users/biocbuild/BBS/utils/build-universal.sh flowStats_4.18.0.tar.gz /Library/Frameworks/R.framework/Resources/bin/R flowStats.buildbin-libdir StartedAt: 2025-01-28 13:10:01 -0500 (Tue, 28 Jan 2025) EndedAt: 2025-01-28 13:11:17 -0500 (Tue, 28 Jan 2025) EllapsedTime: 75.8 seconds RetCode: 0 Status: OK PackageFile: flowStats_4.18.0.tgz PackageFileSize: 11.7 MiB