Package: flowStats Version: 4.18.0 Command: /home/biocbuild/R/R/bin/R CMD check --install=check:flowStats.install-out.txt --library=/home/biocbuild/R/R/site-library --no-vignettes --timings flowStats_4.18.0.tar.gz StartedAt: 2024-11-20 07:57:11 -0000 (Wed, 20 Nov 2024) EndedAt: 2024-11-20 08:01:13 -0000 (Wed, 20 Nov 2024) EllapsedTime: 241.5 seconds RetCode: 0 Status: WARNINGS CheckDir: flowStats.Rcheck Warnings: 4