Package: flowSpecs Version: 1.20.0 Command: /home/biocbuild/bbs-3.20-bioc/R/bin/R CMD build --keep-empty-dirs --no-resave-data flowSpecs StartedAt: 2024-11-19 18:58:32 -0500 (Tue, 19 Nov 2024) EndedAt: 2024-11-19 18:58:56 -0500 (Tue, 19 Nov 2024) EllapsedTime: 24.0 seconds RetCode: 0 Status: OK PackageFile: flowSpecs_1.20.0.tar.gz PackageFileSize: 3.538 MiB