Package: flowSpecs Version: 1.20.0 Command: /home/biocbuild/bbs-3.20-bioc/R/bin/R CMD check --install=check:flowSpecs.install-out.txt --library=/home/biocbuild/bbs-3.20-bioc/R/site-library --timings flowSpecs_1.20.0.tar.gz StartedAt: 2025-01-27 23:12:16 -0500 (Mon, 27 Jan 2025) EndedAt: 2025-01-27 23:13:50 -0500 (Mon, 27 Jan 2025) EllapsedTime: 93.2 seconds RetCode: 0 Status: OK CheckDir: flowSpecs.Rcheck Warnings: 0