Package: flowSpecs Version: 1.20.0 Command: rm -rf flowSpecs.buildbin-libdir && mkdir flowSpecs.buildbin-libdir && /Users/biocbuild/BBS/utils/build-universal.sh flowSpecs_1.20.0.tar.gz /Library/Frameworks/R.framework/Resources/bin/R flowSpecs.buildbin-libdir StartedAt: 2025-01-28 13:09:56 -0500 (Tue, 28 Jan 2025) EndedAt: 2025-01-28 13:10:24 -0500 (Tue, 28 Jan 2025) EllapsedTime: 28.2 seconds RetCode: 0 Status: OK PackageFile: flowSpecs_1.20.0.tgz PackageFileSize: 4.714 MiB