Package: flowPlots Version: 1.54.0 Command: /home/biocbuild/bbs-3.20-bioc/R/bin/R CMD check --install=check:flowPlots.install-out.txt --library=/home/biocbuild/bbs-3.20-bioc/R/site-library --timings flowPlots_1.54.0.tar.gz StartedAt: 2025-02-03 22:27:14 -0500 (Mon, 03 Feb 2025) EndedAt: 2025-02-03 22:27:46 -0500 (Mon, 03 Feb 2025) EllapsedTime: 32.1 seconds RetCode: 0 Status: OK CheckDir: flowPlots.Rcheck Warnings: 0