Package: flowPlots Version: 1.54.0 Command: /Library/Frameworks/R.framework/Resources/bin/R CMD check --install=check:flowPlots.install-out.txt --library=/Library/Frameworks/R.framework/Resources/library --no-vignettes --timings flowPlots_1.54.0.tar.gz StartedAt: 2025-02-04 20:05:15 -0500 (Tue, 04 Feb 2025) EndedAt: 2025-02-04 20:05:49 -0500 (Tue, 04 Feb 2025) EllapsedTime: 34.0 seconds RetCode: 0 Status: OK CheckDir: flowPlots.Rcheck Warnings: 0