Package: flowPlots Version: 1.54.0 Command: rm -rf flowPlots.buildbin-libdir && mkdir flowPlots.buildbin-libdir && /Users/biocbuild/BBS/utils/build-universal.sh flowPlots_1.54.0.tar.gz /Library/Frameworks/R.framework/Resources/bin/R flowPlots.buildbin-libdir StartedAt: 2025-02-05 15:53:06 -0500 (Wed, 05 Feb 2025) EndedAt: 2025-02-05 15:53:10 -0500 (Wed, 05 Feb 2025) EllapsedTime: 4.4 seconds RetCode: 0 Status: OK PackageFile: flowPlots_1.54.0.tgz PackageFileSize: 846.5 KiB