Package: flowPloidy Version: 1.32.0 Command: chmod a+r flowPloidy -R && F:\biocbuild\bbs-3.20-bioc\R\bin\R.exe CMD build --keep-empty-dirs --no-resave-data flowPloidy StartedAt: 2025-01-27 19:00:01 -0500 (Mon, 27 Jan 2025) EndedAt: 2025-01-27 19:00:43 -0500 (Mon, 27 Jan 2025) EllapsedTime: 41.8 seconds RetCode: 0 Status: OK PackageFile: flowPloidy_1.32.0.tar.gz PackageFileSize: 2.336 MiB