Package: flowPloidy Version: 1.32.0 Command: /Library/Frameworks/R.framework/Resources/bin/R CMD build --keep-empty-dirs --no-resave-data flowPloidy StartedAt: 2025-01-30 19:11:07 -0500 (Thu, 30 Jan 2025) EndedAt: 2025-01-30 19:12:27 -0500 (Thu, 30 Jan 2025) EllapsedTime: 80.8 seconds RetCode: 0 Status: OK PackageFile: flowPloidy_1.32.0.tar.gz PackageFileSize: 2.332 MiB