Package: flowPeaks Version: 1.52.0 Command: /home/biocbuild/R/R/bin/R CMD INSTALL flowPeaks StartedAt: 2025-03-31 20:10:48 -0000 (Mon, 31 Mar 2025) EndedAt: 2025-03-31 20:11:11 -0000 (Mon, 31 Mar 2025) EllapsedTime: 23.5 seconds RetCode: 0 Status: OK