Package: flowPeaks Version: 1.52.0 Command: F:\biocbuild\bbs-3.20-bioc\R\bin\R.exe CMD INSTALL flowPeaks StartedAt: 2025-01-30 15:18:43 -0500 (Thu, 30 Jan 2025) EndedAt: 2025-01-30 15:21:25 -0500 (Thu, 30 Jan 2025) EllapsedTime: 161.7 seconds RetCode: 0 Status: OK