Package: flowPeaks Version: 1.52.0 Command: rm -rf flowPeaks.buildbin-libdir && mkdir flowPeaks.buildbin-libdir && F:\biocbuild\bbs-3.20-bioc\R\bin\R.exe CMD INSTALL --build --library=flowPeaks.buildbin-libdir flowPeaks_1.52.0.tar.gz StartedAt: 2025-01-31 08:40:26 -0500 (Fri, 31 Jan 2025) EndedAt: 2025-01-31 08:40:58 -0500 (Fri, 31 Jan 2025) EllapsedTime: 32.2 seconds RetCode: 0 Status: OK PackageFile: flowPeaks_1.52.0.zip PackageFileSize: 2.072 MiB