Package: flowPeaks Version: 1.52.0 Command: /home/biocbuild/bbs-3.20-bioc/R/bin/R CMD build --keep-empty-dirs --no-resave-data --md5 flowPeaks StartedAt: 2025-01-30 17:18:06 -0500 (Thu, 30 Jan 2025) EndedAt: 2025-01-30 17:18:29 -0500 (Thu, 30 Jan 2025) EllapsedTime: 23.0 seconds RetCode: 0 Status: OK PackageFile: flowPeaks_1.52.0.tar.gz PackageFileSize: 2.711 MiB