Package: flowPeaks Version: 1.52.0 Command: /Library/Frameworks/R.framework/Resources/bin/R CMD INSTALL flowPeaks StartedAt: 2025-03-31 15:03:31 -0400 (Mon, 31 Mar 2025) EndedAt: 2025-03-31 15:03:55 -0400 (Mon, 31 Mar 2025) EllapsedTime: 24.8 seconds RetCode: 0 Status: OK