Package: flowPeaks Version: 1.52.0 Command: rm -rf flowPeaks.buildbin-libdir && mkdir flowPeaks.buildbin-libdir && /Users/biocbuild/BBS/utils/build-universal.sh flowPeaks_1.52.0.tar.gz /Library/Frameworks/R.framework/Resources/bin/R flowPeaks.buildbin-libdir StartedAt: 2024-11-09 16:49:47 -0500 (Sat, 09 Nov 2024) EndedAt: 2024-11-09 16:49:52 -0500 (Sat, 09 Nov 2024) EllapsedTime: 5.1 seconds RetCode: 0 Status: OK PackageFile: flowPeaks_1.52.0.tgz PackageFileSize: 4.173 MiB