Package: flowPeaks Version: 1.52.0 Command: /Library/Frameworks/R.framework/Resources/bin/R CMD check --install=check:flowPeaks.install-out.txt --library=/Library/Frameworks/R.framework/Resources/library --no-vignettes --timings flowPeaks_1.52.0.tar.gz StartedAt: 2025-01-31 19:35:35 -0500 (Fri, 31 Jan 2025) EndedAt: 2025-01-31 19:36:06 -0500 (Fri, 31 Jan 2025) EllapsedTime: 30.8 seconds RetCode: 0 Status: WARNINGS CheckDir: flowPeaks.Rcheck Warnings: 1