Package: flowPeaks Version: 1.52.0 Command: /Library/Frameworks/R.framework/Resources/bin/R CMD build --keep-empty-dirs --no-resave-data flowPeaks StartedAt: 2025-01-30 23:48:48 -0500 (Thu, 30 Jan 2025) EndedAt: 2025-01-30 23:49:35 -0500 (Thu, 30 Jan 2025) EllapsedTime: 46.4 seconds RetCode: 0 Status: OK PackageFile: flowPeaks_1.52.0.tar.gz PackageFileSize: 3.904 MiB