Package: flowMerge Version: 2.54.0 Command: /home/biocbuild/R/R/bin/R CMD INSTALL flowMerge StartedAt: 2025-03-31 20:25:35 -0000 (Mon, 31 Mar 2025) EndedAt: 2025-03-31 20:25:58 -0000 (Mon, 31 Mar 2025) EllapsedTime: 23.5 seconds RetCode: 0 Status: OK