Package: flowMerge Version: 2.54.0 Command: chmod a+r flowMerge -R && F:\biocbuild\bbs-3.20-bioc\R\bin\R.exe CMD build --keep-empty-dirs --no-resave-data flowMerge StartedAt: 2025-01-27 18:59:44 -0500 (Mon, 27 Jan 2025) EndedAt: 2025-01-27 19:01:52 -0500 (Mon, 27 Jan 2025) EllapsedTime: 127.8 seconds RetCode: 0 Status: OK PackageFile: flowMerge_2.54.0.tar.gz PackageFileSize: 450.6 KiB