Package: flowMerge Version: 2.54.0 Command: /Library/Frameworks/R.framework/Resources/bin/R CMD INSTALL flowMerge StartedAt: 2025-01-27 15:30:00 -0500 (Mon, 27 Jan 2025) EndedAt: 2025-01-27 15:30:51 -0500 (Mon, 27 Jan 2025) EllapsedTime: 50.2 seconds RetCode: 0 Status: OK