Package: flowMerge Version: 2.54.0 Command: /Library/Frameworks/R.framework/Resources/bin/R CMD build --keep-empty-dirs --no-resave-data flowMerge StartedAt: 2025-01-27 19:02:25 -0500 (Mon, 27 Jan 2025) EndedAt: 2025-01-27 19:04:20 -0500 (Mon, 27 Jan 2025) EllapsedTime: 114.7 seconds RetCode: 0 Status: OK PackageFile: flowMerge_2.54.0.tar.gz PackageFileSize: 630.7 KiB