Package: flowMerge Version: 2.54.0 Command: rm -rf flowMerge.buildbin-libdir && mkdir flowMerge.buildbin-libdir && /Users/biocbuild/BBS/utils/build-universal.sh flowMerge_2.54.0.tar.gz /Library/Frameworks/R.framework/Resources/bin/R flowMerge.buildbin-libdir StartedAt: 2025-01-29 14:40:32 -0500 (Wed, 29 Jan 2025) EndedAt: 2025-01-29 14:41:03 -0500 (Wed, 29 Jan 2025) EllapsedTime: 30.8 seconds RetCode: 0 Status: OK PackageFile: flowMerge_2.54.0.tgz PackageFileSize: 1.047 MiB