Package: flowMeans Version: 1.66.0 Command: /home/biocbuild/bbs-3.20-bioc/R/bin/R CMD build --keep-empty-dirs --no-resave-data --md5 flowMeans StartedAt: 2025-01-27 18:12:57 -0500 (Mon, 27 Jan 2025) EndedAt: 2025-01-27 18:13:23 -0500 (Mon, 27 Jan 2025) EllapsedTime: 26.0 seconds RetCode: 0 Status: OK PackageFile: flowMeans_1.66.0.tar.gz PackageFileSize: 3.285 MiB