Package: flowMeans Version: 1.66.0 Command: /Library/Frameworks/R.framework/Resources/bin/R CMD INSTALL flowMeans StartedAt: 2025-01-27 15:18:27 -0500 (Mon, 27 Jan 2025) EndedAt: 2025-01-27 15:18:44 -0500 (Mon, 27 Jan 2025) EllapsedTime: 17.2 seconds RetCode: 0 Status: OK