Package: flowGate Version: 1.6.0 Command: /home/biocbuild/R/R/bin/R CMD INSTALL flowGate StartedAt: 2025-03-31 20:43:04 -0000 (Mon, 31 Mar 2025) EndedAt: 2025-03-31 20:43:21 -0000 (Mon, 31 Mar 2025) EllapsedTime: 16.9 seconds RetCode: 0 Status: OK