Package: flowGate Version: 1.6.0 Command: /home/biocbuild/R/R/bin/R CMD build --keep-empty-dirs --no-resave-data flowGate StartedAt: 2025-01-30 23:39:12 -0000 (Thu, 30 Jan 2025) EndedAt: 2025-01-30 23:39:47 -0000 (Thu, 30 Jan 2025) EllapsedTime: 35.0 seconds RetCode: 0 Status: OK PackageFile: flowGate_1.6.0.tar.gz PackageFileSize: 1.934 MiB