Package: flowGate Version: 1.6.0 Command: /Library/Frameworks/R.framework/Resources/bin/R CMD build --keep-empty-dirs --no-resave-data flowGate StartedAt: 2025-02-03 23:43:35 -0500 (Mon, 03 Feb 2025) EndedAt: 2025-02-03 23:44:10 -0500 (Mon, 03 Feb 2025) EllapsedTime: 34.8 seconds RetCode: 0 Status: OK PackageFile: flowGate_1.6.0.tar.gz PackageFileSize: 2.404 MiB