Package: flowFP Version: 1.64.0 Command: /home/biocbuild/R/R/bin/R CMD INSTALL flowFP StartedAt: 2025-01-27 21:14:51 -0000 (Mon, 27 Jan 2025) EndedAt: 2025-01-27 21:15:08 -0000 (Mon, 27 Jan 2025) EllapsedTime: 16.4 seconds RetCode: 0 Status: OK