Package: flowFP Version: 1.64.0 Command: /home/biocbuild/R/R/bin/R CMD check --install=check:flowFP.install-out.txt --library=/home/biocbuild/R/R/site-library --no-vignettes --timings flowFP_1.64.0.tar.gz StartedAt: 2025-02-04 07:04:07 -0000 (Tue, 04 Feb 2025) EndedAt: 2025-02-04 07:05:42 -0000 (Tue, 04 Feb 2025) EllapsedTime: 95.1 seconds RetCode: 0 Status: OK CheckDir: flowFP.Rcheck Warnings: 0