Package: flowFP Version: 1.64.0 Command: chmod a+r flowFP -R && F:\biocbuild\bbs-3.20-bioc\R\bin\R.exe CMD build --keep-empty-dirs --no-resave-data flowFP StartedAt: 2025-03-31 18:59:39 -0400 (Mon, 31 Mar 2025) EndedAt: 2025-03-31 19:00:16 -0400 (Mon, 31 Mar 2025) EllapsedTime: 37.3 seconds RetCode: 0 Status: OK PackageFile: flowFP_1.64.0.tar.gz PackageFileSize: 5.122 MiB