Package: flowFP Version: 1.64.0 Command: /Library/Frameworks/R.framework/Resources/bin/R CMD build --keep-empty-dirs --no-resave-data flowFP StartedAt: 2025-03-31 18:46:10 -0400 (Mon, 31 Mar 2025) EndedAt: 2025-03-31 18:47:14 -0400 (Mon, 31 Mar 2025) EllapsedTime: 64.3 seconds RetCode: 0 Status: OK PackageFile: flowFP_1.64.0.tar.gz PackageFileSize: 5.131 MiB